BEGIN:VCALENDAR
VERSION:2.0
PRODID:-//Degagna San Martino - ECPv5.9.0//NONSGML v1.0//EN
CALSCALE:GREGORIAN
METHOD:PUBLISH
X-WR-CALNAME:Degagna San Martino
X-ORIGINAL-URL:https://degagnasanmartino.it
X-WR-CALDESC:Eventi per Degagna San Martino
BEGIN:VTIMEZONE
TZID:UTC
BEGIN:STANDARD
TZOFFSETFROM:+0000
TZOFFSETTO:+0000
TZNAME:UTC
DTSTART:20220101T000000
END:STANDARD
END:VTIMEZONE
BEGIN:VEVENT
DTSTART;TZID=UTC:20220820T170000
DTEND;TZID=UTC:20220904T190000
DTSTAMP:20260421T233213
CREATED:20220822T114652Z
LAST-MODIFIED:20220822T114652Z
UID:822-1661014800-1662318000@degagnasanmartino.it
SUMMARY:I Taccuini di Flora - Mostra personale della pittrice Giovanna Borra
DESCRIPTION:Bureglio di Vignone – Casa degli Archi “Martino Poletti” \nI Taccuini di Flora \nMostra personale della pittrice Giovanna Borra \nInaugurazione sabato 20 agosto ore 17.00 \nVisitabile fino a domenica 4 settembre: \nvenerdì\, sabato\, domenica ore 16.00-19.00
URL:https://degagnasanmartino.it/evento/i-taccuini-di-flora-mostra-personale-della-pittrice-giovanna-borra/
LOCATION:Casa degli Archi\, Via Paita 1\, Vignone\, Italia
CATEGORIES:Mostra
ATTACH;FMTTYPE=image/jpeg:https://degagnasanmartino.it/wp-content/uploads/2022/08/locandinaA3_MOSTRAborra-scaled.jpg
END:VEVENT
END:VCALENDAR