BEGIN:VCALENDAR
VERSION:2.0
PRODID:-//Degagna San Martino - ECPv5.9.0//NONSGML v1.0//EN
CALSCALE:GREGORIAN
METHOD:PUBLISH
X-WR-CALNAME:Degagna San Martino
X-ORIGINAL-URL:https://degagnasanmartino.it
X-WR-CALDESC:Eventi per Degagna San Martino
BEGIN:VTIMEZONE
TZID:UTC
BEGIN:STANDARD
TZOFFSETFROM:+0000
TZOFFSETTO:+0000
TZNAME:UTC
DTSTART:20220101T000000
END:STANDARD
END:VTIMEZONE
BEGIN:VEVENT
DTSTART;TZID=UTC:20220709T170000
DTEND;TZID=UTC:20220724T190000
DTSTAMP:20260421T232725
CREATED:20220606T113410Z
LAST-MODIFIED:20220606T113410Z
UID:804-1657386000-1658689200@degagnasanmartino.it
SUMMARY:Tra terra e cielo - mostra personale di Paolo Chiodoni
DESCRIPTION:Bureglio di Vignone – \nCasa degli Archi “Martino Poletti” \nTra Terra e Cielo  – Mostra personale del pittore Paolo Chiodoni \nInaugurazione sabato 9 luglio ore 17.00 \nVisitabile fino a domenica 24 luglio: venerdì\, sabato e domenica ore 16.00-19.00
URL:https://degagnasanmartino.it/evento/tra-terra-e-cielo-mostra-personale-di-paolo-chiodoni/
LOCATION:Casa degli Archi\, Via Paita 1\, Vignone\, Italia
CATEGORIES:Mostra
ATTACH;FMTTYPE=image/jpeg:https://degagnasanmartino.it/wp-content/uploads/2022/06/locandinaA3_MOSTRACHIODONI-scaled.jpg
END:VEVENT
BEGIN:VEVENT
DTSTART;TZID=UTC:20220716T210000
DTEND;TZID=UTC:20220716T223000
DTSTAMP:20260421T232725
CREATED:20220624T145054Z
LAST-MODIFIED:20220624T150242Z
UID:809-1658005200-1658010600@degagnasanmartino.it
SUMMARY:Concerto 16 luglio
DESCRIPTION:L’Associazione culturale La Degagna con la collaborazione di Verbania Musica propone \nSabato 16 luglio ore 21 \npresso la Chiesa parrocchiale di S. Martino di Vignone\nil concerto “Il corno: viaggio tra classicismo e colonne sonore”\nRoberto Olzer (pianoforte) – Davide Citera (corno) \nL’iniziativa si inserisce nella rassegna di concerti “Notturni” di Verbania Musica e gode del sostegno del Comune di Vignone e del Centro Servizi per il Volontariato.
URL:https://degagnasanmartino.it/evento/concerto-16-luglio/
LOCATION:San Martino\, Vignone
CATEGORIES:Mostra
ATTACH;FMTTYPE=image/jpeg:https://degagnasanmartino.it/wp-content/uploads/2022/06/locandinaA3_CONCERTOolzer-scaled.jpg
END:VEVENT
BEGIN:VEVENT
DTSTART;TZID=UTC:20220730T170000
DTEND;TZID=UTC:20220815T190000
DTSTAMP:20260421T232725
CREATED:20220822T114311Z
LAST-MODIFIED:20220822T114311Z
UID:819-1659200400-1660590000@degagnasanmartino.it
SUMMARY:Vedere e immaginare - Mostra dei pittori Elisa Longoni e Battista Violi
DESCRIPTION:Bureglio di Vignone – Casa degli Archi “Martino Poletti” \nVedere e immaginare \nMostra dei pittori Elisa Longoni e Battista Violi \nInaugurazione sabato 30 luglio ore 17.00 \nVisitabile fino a lunedì 15 agosto compreso: \nvenerdì\, sabato e domenica ore 16.00-19.00
URL:https://degagnasanmartino.it/evento/vedere-e-immaginare-mostra-dei-pittori-elisa-longoni-e-battista-violi/
LOCATION:Casa degli Archi\, Via Paita 1\, Vignone\, Italia
CATEGORIES:Mostra
ATTACH;FMTTYPE=image/jpeg:https://degagnasanmartino.it/wp-content/uploads/2022/08/LOCANDINAMOSTRALONGONIVIOLI-scaled.jpg
END:VEVENT
END:VCALENDAR