BEGIN:VCALENDAR
VERSION:2.0
PRODID:-//Degagna San Martino - ECPv5.9.0//NONSGML v1.0//EN
CALSCALE:GREGORIAN
METHOD:PUBLISH
X-WR-CALNAME:Degagna San Martino
X-ORIGINAL-URL:https://degagnasanmartino.it
X-WR-CALDESC:Eventi per Degagna San Martino
BEGIN:VTIMEZONE
TZID:UTC
BEGIN:STANDARD
TZOFFSETFROM:+0000
TZOFFSETTO:+0000
TZNAME:UTC
DTSTART:20230101T000000
END:STANDARD
END:VTIMEZONE
BEGIN:VEVENT
DTSTART;TZID=UTC:20231104T190000
DTEND;TZID=UTC:20231105T190000
DTSTAMP:20260421T152500
CREATED:20231013T144758Z
LAST-MODIFIED:20231013T144758Z
UID:852-1699124400-1699210800@degagnasanmartino.it
SUMMARY:4-5 novembre: i 400 anni della collocazione della statua di San Carlo Borromeo nella chiesa di S. Martino di Vignone
DESCRIPTION:Per i 400 anni della collocazione della statua di San Carlo Borromeo nella chiesa di S. Martino di Vignone \nSabato 4 novembre – Ristorante “Al solito posto”\, Via Donati 8 \nOre 19 Cena benefica (su prenotazione 351 3257490 / 342 5863223) \nOre 21 Incontro culturale con Stefano Martinella\, storico dell’arte \nSan Carlo Borromeo nel Verbano. Culto e iconografia \nLeonardo Parachini\, storico \n“Pare che San Carlo pianga!!” Ricostruzione storica di una vicenda poco nota riguardante un quadro raffigurante San Carlo conservato nella chiesa di San Leonardo a Pallanza \n  \nDomenica 5 novembre – Chiesa di San Martino \nOre 16.30 Concerto Note d’autunno \nMartina Nifantani\, arpa – Alessandro Lo Giudice\, flauto traverso \nBrani di Bach\, Debussy\, Rota\, Faurè\, Hilse \n  \nIngresso a offerta a sostegno dei restauri \n 
URL:https://degagnasanmartino.it/evento/4-5-novembre-i-400-anni-della-collocazione-della-statua-di-san-carlo-borromeo-nella-chiesa-di-s-martino-di-vignone/
LOCATION:San Martino\, Vignone
CATEGORIES:Concerto,Conferenza
ATTACH;FMTTYPE=image/jpeg:https://degagnasanmartino.it/wp-content/uploads/2023/10/11_LOCANDINAGENnero-scaled.jpg
END:VEVENT
END:VCALENDAR