BEGIN:VCALENDAR
VERSION:2.0
PRODID:-//Degagna San Martino - ECPv5.9.0//NONSGML v1.0//EN
CALSCALE:GREGORIAN
METHOD:PUBLISH
X-WR-CALNAME:Degagna San Martino
X-ORIGINAL-URL:https://degagnasanmartino.it
X-WR-CALDESC:Eventi per Degagna San Martino
BEGIN:VTIMEZONE
TZID:UTC
BEGIN:STANDARD
TZOFFSETFROM:+0000
TZOFFSETTO:+0000
TZNAME:UTC
DTSTART:20230101T000000
END:STANDARD
END:VTIMEZONE
BEGIN:VEVENT
DTSTART;TZID=UTC:20230604T160000
DTEND;TZID=UTC:20230604T170000
DTSTAMP:20260422T012114
CREATED:20230518T153356Z
LAST-MODIFIED:20230518T153356Z
UID:833-1685894400-1685898000@degagnasanmartino.it
SUMMARY:Dall'Opera italiana alle grandi colonne sonore
DESCRIPTION:DOMENICA 4 giugno 2023 ore 16 \nVignone – Chiesa parrocchiale di S. Martino \nOrchestra Ranzoni\nIstituto Comprensivo “Anna Antonini” di Verbania Trobaso \nDirige Alessandro De Bei \nProgramma: Dall’Opera italiana alle grandi colonne sonore \nJean-Philippe Rameau Dance des Sauvages\nLouis Moreau Gottschalk Bamboula\nJohn Williams Jurassic Park\nAram Khachaturian Mascarade\nGioachino Rossini Ouverture da “La gazza ladra”\nArthur Banjamin Jamaican Rumba\nLeonard Bernstein West Side Story
URL:https://degagnasanmartino.it/evento/dallopera-italiana-alle-grandi-colonne-sonore/
LOCATION:San Martino\, Vignone
CATEGORIES:Concerto
ATTACH;FMTTYPE=image/jpeg:https://degagnasanmartino.it/wp-content/uploads/2023/05/locandinaA3_CONCERTO-scaled.jpg
END:VEVENT
END:VCALENDAR