BEGIN:VCALENDAR
VERSION:2.0
PRODID:-//Degagna San Martino - ECPv5.9.0//NONSGML v1.0//EN
CALSCALE:GREGORIAN
METHOD:PUBLISH
X-WR-CALNAME:Degagna San Martino
X-ORIGINAL-URL:https://degagnasanmartino.it
X-WR-CALDESC:Eventi per Degagna San Martino
BEGIN:VTIMEZONE
TZID:UTC
BEGIN:STANDARD
TZOFFSETFROM:+0000
TZOFFSETTO:+0000
TZNAME:UTC
DTSTART:20220101T000000
END:STANDARD
END:VTIMEZONE
BEGIN:VEVENT
DTSTART;TZID=UTC:20220828T170000
DTEND;TZID=UTC:20220828T183000
DTSTAMP:20260424T122315
CREATED:20220823T132418Z
LAST-MODIFIED:20220823T132418Z
UID:825-1661706000-1661711400@degagnasanmartino.it
SUMMARY:Meditazione musicale 28 agosto 2022
DESCRIPTION:Chiesa Parrocchiale di San Martino di Vignone \n28 agosto 2022 ore 17.00 \nMEDITAZIONE MUSICALE \nCantori di San Cipriano – Direttore Alessio Lucchini \nΚAIPE MAPIA \nTARTAGLIONE Stabat Mater \nANONIMO CUSIANO sec XVIII Messa S. Marta
URL:https://degagnasanmartino.it/evento/meditazione-musicale-28-agosto-2022/
LOCATION:San Martino\, Vignone
CATEGORIES:Concerto
ATTACH;FMTTYPE=image/jpeg:https://degagnasanmartino.it/wp-content/uploads/2022/08/Locandina-San-Martino-scaled.jpg
END:VEVENT
END:VCALENDAR